BEGIN:VCALENDAR
VERSION:2.0
PRODID:-//Logan County Health Service - ECPv6.15.20//NONSGML v1.0//EN
CALSCALE:GREGORIAN
METHOD:PUBLISH
X-WR-CALNAME:Logan County Health Service
X-ORIGINAL-URL:https://logancountyhospital.org
X-WR-CALDESC:Events for Logan County Health Service
REFRESH-INTERVAL;VALUE=DURATION:PT1H
X-Robots-Tag:noindex
X-PUBLISHED-TTL:PT1H
BEGIN:VTIMEZONE
TZID:America/Chicago
BEGIN:DAYLIGHT
TZOFFSETFROM:-0600
TZOFFSETTO:-0500
TZNAME:CDT
DTSTART:20250309T080000
END:DAYLIGHT
BEGIN:STANDARD
TZOFFSETFROM:-0500
TZOFFSETTO:-0600
TZNAME:CST
DTSTART:20251102T070000
END:STANDARD
BEGIN:DAYLIGHT
TZOFFSETFROM:-0600
TZOFFSETTO:-0500
TZNAME:CDT
DTSTART:20260308T080000
END:DAYLIGHT
BEGIN:STANDARD
TZOFFSETFROM:-0500
TZOFFSETTO:-0600
TZNAME:CST
DTSTART:20261101T070000
END:STANDARD
BEGIN:DAYLIGHT
TZOFFSETFROM:-0600
TZOFFSETTO:-0500
TZNAME:CDT
DTSTART:20270314T080000
END:DAYLIGHT
BEGIN:STANDARD
TZOFFSETFROM:-0500
TZOFFSETTO:-0600
TZNAME:CST
DTSTART:20271107T070000
END:STANDARD
END:VTIMEZONE
BEGIN:VEVENT
DTSTART;VALUE=DATE:20260420
DTEND;VALUE=DATE:20260421
DTSTAMP:20260420T073831
CREATED:20250801T151412Z
LAST-MODIFIED:20260330T135708Z
UID:1923-1776643200-1776729599@logancountyhospital.org
SUMMARY:HPM Clinic
DESCRIPTION:
URL:https://logancountyhospital.org/event/hpm-clinic/
LOCATION:Logan County Health Services\, 211 Cherry Ave\, Oakley\, KS\, 67748\, United States
CATEGORIES:Holistic Pain Management
END:VEVENT
BEGIN:VEVENT
DTSTART;VALUE=DATE:20260422
DTEND;VALUE=DATE:20260423
DTSTAMP:20260420T073831
CREATED:20250801T140418Z
LAST-MODIFIED:20260330T134359Z
UID:1904-1776816000-1776902399@logancountyhospital.org
SUMMARY:General Surgery
DESCRIPTION:
URL:https://logancountyhospital.org/event/general-surgery-2/
LOCATION:Logan County Health Services\, 211 Cherry Ave\, Oakley\, KS\, 67748\, United States
CATEGORIES:Surgery
END:VEVENT
BEGIN:VEVENT
DTSTART;VALUE=DATE:20260422
DTEND;VALUE=DATE:20260423
DTSTAMP:20260420T073831
CREATED:20250817T150810Z
LAST-MODIFIED:20260330T134857Z
UID:1919-1776816000-1776902399@logancountyhospital.org
SUMMARY:Oncology Clinic
DESCRIPTION:
URL:https://logancountyhospital.org/event/oncology-clinic/
LOCATION:Logan County Health Services\, 211 Cherry Ave\, Oakley\, KS\, 67748\, United States
CATEGORIES:Oncology
END:VEVENT
BEGIN:VEVENT
DTSTART;VALUE=DATE:20260424
DTEND;VALUE=DATE:20260425
DTSTAMP:20260420T073831
CREATED:20250801T135601Z
LAST-MODIFIED:20260330T140023Z
UID:1902-1776988800-1777075199@logancountyhospital.org
SUMMARY:Oncology Clinic
DESCRIPTION:
URL:https://logancountyhospital.org/event/oncology-2/
LOCATION:Logan County Health Services\, 211 Cherry Ave\, Oakley\, KS\, 67748\, United States
CATEGORIES:Oncology
END:VEVENT
BEGIN:VEVENT
DTSTART;VALUE=DATE:20260427
DTEND;VALUE=DATE:20260428
DTSTAMP:20260420T073831
CREATED:20250829T145557Z
LAST-MODIFIED:20260330T134547Z
UID:1963-1777248000-1777334399@logancountyhospital.org
SUMMARY:Cardiology Clinic
DESCRIPTION:
URL:https://logancountyhospital.org/event/cardiology/
CATEGORIES:Cardiology
END:VEVENT
BEGIN:VEVENT
DTSTART;VALUE=DATE:20260429
DTEND;VALUE=DATE:20260430
DTSTAMP:20260420T073831
CREATED:20250810T135940Z
LAST-MODIFIED:20260330T134925Z
UID:1908-1777420800-1777507199@logancountyhospital.org
SUMMARY:Oncology Clinic
DESCRIPTION:
URL:https://logancountyhospital.org/event/oncology-3/
LOCATION:Logan County Health Services\, 211 Cherry Ave\, Oakley\, KS\, 67748\, United States
CATEGORIES:Oncology
END:VEVENT
BEGIN:VEVENT
DTSTART;VALUE=DATE:20260429
DTEND;VALUE=DATE:20260430
DTSTAMP:20260420T073831
CREATED:20250801T151932Z
LAST-MODIFIED:20260330T134439Z
UID:1932-1777420800-1777507199@logancountyhospital.org
SUMMARY:General Surgery
DESCRIPTION:
URL:https://logancountyhospital.org/event/general-surgery-3/
LOCATION:Logan County Health Services\, 211 Cherry Ave\, Oakley\, KS\, 67748\, United States
CATEGORIES:Surgery
END:VEVENT
BEGIN:VEVENT
DTSTART;VALUE=DATE:20260430
DTEND;VALUE=DATE:20260501
DTSTAMP:20260420T073831
CREATED:20250801T152255Z
LAST-MODIFIED:20260330T135842Z
UID:1936-1777507200-1777593599@logancountyhospital.org
SUMMARY:Pain Management Procedures
DESCRIPTION:
URL:https://logancountyhospital.org/event/painprocedures/
LOCATION:Logan County Health Services\, 211 Cherry Ave\, Oakley\, KS\, 67748\, United States
CATEGORIES:Holistic Pain Management
END:VEVENT
END:VCALENDAR